BEGIN:VCALENDAR
VERSION:2.0
PRODID:-//Plone.org//NONSGML plone.app.event//EN
X-WR-TIMEZONE:Europe/Berlin
BEGIN:VEVENT
SUMMARY:Connected Care: il modello di sviluppo della Sanità Digitale e il
  ruolo delle professioni sanitarie
DTSTART;TZID=Europe/Berlin;VALUE=DATE-TIME:20251118T140000
DTEND;TZID=Europe/Berlin;VALUE=DATE-TIME:20251118T180000
DTSTAMP;VALUE=DATE-TIME:20260425T212118Z
UID:17d4e97a6d264bdcb0566cfb6f78281e@salute.regione.emilia-romagna.it
ATTENDEE;CN="Professionisti interessati";ROLE=REQ-PARTICIPANT:Professionis
 ti interessati
CONTACT:Federica Marchesini\, federica.marchesini@ausl.fe.it
CREATED;VALUE=DATE-TIME:20251029T075941Z
LAST-MODIFIED;VALUE=DATE-TIME:20251029T080224Z
URL:https://salute.regione.emilia-romagna.it/agenda/aou-fe/2025/novembre/c
 onnected-care-il-modello-di-sviluppo-della-sanita-digitale-e-il-ruolo-dell
 e-professioni-sanitarie
END:VEVENT
BEGIN:VTIMEZONE
TZID:Europe/Berlin
X-LIC-LOCATION:Europe/Berlin
BEGIN:STANDARD
DTSTART;VALUE=DATE-TIME:20251026T020000
TZNAME:CET
TZOFFSETFROM:+0200
TZOFFSETTO:+0100
END:STANDARD
END:VTIMEZONE
END:VCALENDAR
