BEGIN:VCALENDAR
VERSION:2.0
PRODID:-//Plone.org//NONSGML plone.app.event//EN
X-WR-TIMEZONE:Europe/Berlin
BEGIN:VEVENT
SUMMARY:Convegno - SMC Malattie reumatologiche e disturbi dell'articolazio
 ne temporomandibolare: approccio integrato multidisciplinare
DTSTART;TZID=Europe/Berlin;VALUE=DATE-TIME:20251108T090000
DTEND;TZID=Europe/Berlin;VALUE=DATE-TIME:20251108T131500
DTSTAMP;VALUE=DATE-TIME:20260425T213230Z
UID:2d34783402bd4cdab6d347e9f52ca142@salute.regione.emilia-romagna.it
ATTENDEE;CN="Medici, Biologi, Farmacisti, Professioni Sanitarie , Studenti
 ";ROLE=REQ-PARTICIPANT:Medici, Biologi, Farmacisti, Professioni Sanitarie 
 , Studenti
CONTACT:Società Medico Chirurgica\, smc@mcrferrara.org
CREATED;VALUE=DATE-TIME:20251106T093829Z
LAST-MODIFIED;VALUE=DATE-TIME:20251106T094018Z
URL:https://salute.regione.emilia-romagna.it/agenda/aou-fe/2025/novembre/c
 onvegno-smc-malattie-reumatologiche-e-disturbi-dellarticolazione-temporoma
 ndibolare-approccio-integrato-multidisciplinare
END:VEVENT
BEGIN:VTIMEZONE
TZID:Europe/Berlin
X-LIC-LOCATION:Europe/Berlin
BEGIN:STANDARD
DTSTART;VALUE=DATE-TIME:20251026T020000
TZNAME:CET
TZOFFSETFROM:+0200
TZOFFSETTO:+0100
END:STANDARD
END:VTIMEZONE
END:VCALENDAR
