BEGIN:VCALENDAR
VERSION:2.0
PRODID:-//Plone.org//NONSGML plone.app.event//EN
X-WR-TIMEZONE:Europe/Berlin
BEGIN:VEVENT
SUMMARY:La vita del corpo femminile: maternità\, malattia e condizione di
  genere
DTSTART;TZID=Europe/Berlin;VALUE=DATE-TIME:20251107T153000
DTEND;TZID=Europe/Berlin;VALUE=DATE-TIME:20251107T183000
DTSTAMP;VALUE=DATE-TIME:20260425T194658Z
UID:b6a1233050234da9bb3b70bdd92a2085@salute.regione.emilia-romagna.it
ATTENDEE;CN="tutti i professionisti, studenti e tutti gli interessati.  Ri
 volto anche alla cittadinanza";ROLE=REQ-PARTICIPANT:tutti i professionisti
 , studenti e tutti gli interessati.  Rivolto anche alla cittadinanza
CONTACT:Rimondo Martina\, m.rimondo@ausl.fe.it
CREATED;VALUE=DATE-TIME:20251024T110313Z
LAST-MODIFIED;VALUE=DATE-TIME:20251024T110405Z
URL:https://salute.regione.emilia-romagna.it/agenda/aou-fe/2025/novembre/l
 a-vita-del-corpo-femminile-maternita-malattia-e-condizione-di-genere
END:VEVENT
BEGIN:VTIMEZONE
TZID:Europe/Berlin
X-LIC-LOCATION:Europe/Berlin
BEGIN:STANDARD
DTSTART;VALUE=DATE-TIME:20251026T020000
TZNAME:CET
TZOFFSETFROM:+0200
TZOFFSETTO:+0100
END:STANDARD
END:VTIMEZONE
END:VCALENDAR
