BEGIN:VCALENDAR
VERSION:2.0
PRODID:-//Plone.org//NONSGML plone.app.event//EN
X-WR-TIMEZONE:Europe/Berlin
BEGIN:VEVENT
SUMMARY:Convegno: Chirurgia mininvasiva per il tumore al seno
DTSTART;TZID=Europe/Berlin;VALUE=DATE-TIME:20251001T160000
DTEND;TZID=Europe/Berlin;VALUE=DATE-TIME:20251001T180000
DTSTAMP;VALUE=DATE-TIME:20260426T052850Z
UID:26a9b67720ec41d0a99b25636144f355@salute.regione.emilia-romagna.it
CATEGORIES:convegno
CREATED;VALUE=DATE-TIME:20250930T063320Z
DESCRIPTION:Le Aziende Sanitarie ferraresi inaugurano il programma di “O
 ttobre Rosa 2025”\, un mese interamente dedicato alla sensibilizzazione\
 , alla prevenzione e alla diagnosi precoce del tumore alla mammella.
LAST-MODIFIED;VALUE=DATE-TIME:20250930T063522Z
URL:https://salute.regione.emilia-romagna.it/agenda/aou-fe/2025/ottobre/co
 nvegno-chirurgia-mininvasiva-per-il-tumore-al-seno
END:VEVENT
BEGIN:VTIMEZONE
TZID:Europe/Berlin
X-LIC-LOCATION:Europe/Berlin
BEGIN:DAYLIGHT
DTSTART;VALUE=DATE-TIME:20250330T030000
TZNAME:CEST
TZOFFSETFROM:+0100
TZOFFSETTO:+0200
END:DAYLIGHT
END:VTIMEZONE
END:VCALENDAR
