BEGIN:VCALENDAR
VERSION:2.0
PRODID:-//Plone.org//NONSGML plone.app.event//EN
X-WR-TIMEZONE:Europe/Berlin
BEGIN:VEVENT
SUMMARY:Evento - Corpi che cambiano\, vite che si reinventano: convivere c
 on il linfedema
DTSTART;TZID=Europe/Berlin;VALUE=DATE-TIME:20251024T143000
DTEND;TZID=Europe/Berlin;VALUE=DATE-TIME:20251024T183000
DTSTAMP;VALUE=DATE-TIME:20260426T024224Z
UID:72ce707797b34e9c9fda26e588b99912@salute.regione.emilia-romagna.it
ATTENDEE;CN="Professionisti interessati";ROLE=REQ-PARTICIPANT:Professionis
 ti interessati
CONTACT:Ufficio Formazione\, formazione@ospfe.it
CREATED;VALUE=DATE-TIME:20251017T085126Z
DESCRIPTION:24 ottobre 2025\n14.30 - 18.30\naula C5\nnuovo polo\ndidattico
  di Cona
LAST-MODIFIED;VALUE=DATE-TIME:20251017T085214Z
URL:https://salute.regione.emilia-romagna.it/agenda/aou-fe/2025/ottobre/ev
 ento-corpi-che-cambiano-vite-che-si-reinventano-convivere-con-il-linfedema
END:VEVENT
BEGIN:VTIMEZONE
TZID:Europe/Berlin
X-LIC-LOCATION:Europe/Berlin
BEGIN:DAYLIGHT
DTSTART;VALUE=DATE-TIME:20250330T030000
TZNAME:CEST
TZOFFSETFROM:+0100
TZOFFSETTO:+0200
END:DAYLIGHT
END:VTIMEZONE
END:VCALENDAR
