BEGIN:VCALENDAR
VERSION:2.0
PRODID:-//Plone.org//NONSGML plone.app.event//EN
X-WR-TIMEZONE:Europe/Berlin
BEGIN:VEVENT
SUMMARY:II° Congresso nazionale: la Ricerca traslazionale incontra l’On
 cologia di genere
DTSTART;TZID=Europe/Berlin;VALUE=DATE-TIME:20260305T100000
DTEND;TZID=Europe/Berlin;VALUE=DATE-TIME:20260305T170000
DTSTAMP;VALUE=DATE-TIME:20260426T000317Z
UID:24e7677d88a14d809cd479a465240def@salute.regione.emilia-romagna.it
CONTACT:0543739100\, ufficio.formazione@irst.emr.it\, https://www.irst.emr
 .it/it/notizie-ed-eventi/iideg-congresso-nazionale-la-ricerca-traslazional
 e-incontra-loncologia-di-genere
CREATED;VALUE=DATE-TIME:20260227T103940Z
DESCRIPTION:Un evento dedicato alla Medicina di Genere\, per approfondire 
 le evidenze scientifiche sulle differenze tra uomini e donne nella present
 azione delle patologie e nella risposta ai trattamenti. Un confronto multi
 disciplinare per promuovere percorsi clinici più equi\, sicuri e appropri
 ati.
LAST-MODIFIED;VALUE=DATE-TIME:20260227T104500Z
URL:https://salute.regione.emilia-romagna.it/agenda/irst/iideg-congresso-n
 azionale-la-ricerca-traslazionale-incontra-l2019oncologia-di-genere
END:VEVENT
BEGIN:VTIMEZONE
TZID:Europe/Berlin
X-LIC-LOCATION:Europe/Berlin
BEGIN:STANDARD
DTSTART;VALUE=DATE-TIME:20251026T020000
TZNAME:CET
TZOFFSETFROM:+0200
TZOFFSETTO:+0100
END:STANDARD
END:VTIMEZONE
END:VCALENDAR
