BEGIN:VCALENDAR
VERSION:2.0
PRODID:-//Plone.org//NONSGML plone.app.event//EN
X-WR-TIMEZONE:Europe/Berlin
BEGIN:VEVENT
SUMMARY:Engaging patients for patient safety. Coinvolgimento dei pazienti 
 e dei cittadini nella sicurezza delle cure.
DTSTART;TZID=Europe/Berlin;VALUE=DATE-TIME:20230922T090000
DTEND;TZID=Europe/Berlin;VALUE=DATE-TIME:20230922T140000
DTSTAMP;VALUE=DATE-TIME:20260425T224046Z
UID:efc52c48e41d4210b971f8fbaadc5670@salute.regione.emilia-romagna.it
CONTACT:centrorischiosanitario@regione.emilia-romagna.it
CREATED;VALUE=DATE-TIME:20230731T114636Z
DESCRIPTION:seminario
LAST-MODIFIED;VALUE=DATE-TIME:20230926T102406Z
URL:https://salute.regione.emilia-romagna.it/agenda/regione/2023/201cengag
 ing-patients-for-patient-safety201d-coinvolgimento-dei-pazienti-e-dei-citt
 adini-nella-sicurezza-delle-cure
END:VEVENT
BEGIN:VTIMEZONE
TZID:Europe/Berlin
X-LIC-LOCATION:Europe/Berlin
BEGIN:DAYLIGHT
DTSTART;VALUE=DATE-TIME:20230326T030000
TZNAME:CEST
TZOFFSETFROM:+0100
TZOFFSETTO:+0200
END:DAYLIGHT
END:VTIMEZONE
END:VCALENDAR
