BEGIN:VCALENDAR
VERSION:2.0
PRODID:-//Plone.org//NONSGML plone.app.event//EN
X-WR-TIMEZONE:Europe/Berlin
BEGIN:VEVENT
SUMMARY:Benessere delle persone LGBTQ+ e giustizia sociale. Saperi e strum
 enti per praticare l'inclusione nei servizi.
DTSTART;TZID=Europe/Berlin;VALUE=DATE-TIME:20230926T093000
DTEND;TZID=Europe/Berlin;VALUE=DATE-TIME:20230926T170000
DTSTAMP;VALUE=DATE-TIME:20260426T030059Z
UID:9b949a029693458a9bc1e41248b4b382@salute.regione.emilia-romagna.it
CONTACT:giulia.rodeschini@regione.emilia-romagna.it
CREATED;VALUE=DATE-TIME:20230823T074401Z
DESCRIPTION:evento formativo
LAST-MODIFIED;VALUE=DATE-TIME:20230921T132822Z
URL:https://salute.regione.emilia-romagna.it/agenda/regione/2023/benessere
 -delle-persone-lgbtq-e-giustizia-sociale-saperi-e-strumenti-per-praticare-
 linclusione-nei-servizi
END:VEVENT
BEGIN:VTIMEZONE
TZID:Europe/Berlin
X-LIC-LOCATION:Europe/Berlin
BEGIN:DAYLIGHT
DTSTART;VALUE=DATE-TIME:20230326T030000
TZNAME:CEST
TZOFFSETFROM:+0100
TZOFFSETTO:+0200
END:DAYLIGHT
END:VTIMEZONE
END:VCALENDAR
