BEGIN:VCALENDAR
VERSION:2.0
PRODID:-//Plone.org//NONSGML plone.app.event//EN
X-WR-TIMEZONE:Europe/Berlin
BEGIN:VEVENT
SUMMARY:Community lab Promozione della salute in età evolutiva: partecipa
 zione e contrasto alle disuguaglianze nelle politiche pubbliche di benesse
 re
DTSTART;TZID=Europe/Berlin;VALUE=DATE-TIME:20231024T100000
DTEND;TZID=Europe/Berlin;VALUE=DATE-TIME:20231024T170000
DTSTAMP;VALUE=DATE-TIME:20260425T225300Z
UID:e60822ad8f1b4b80975b337e3da1ed94@salute.regione.emilia-romagna.it
CREATED;VALUE=DATE-TIME:20230912T095830Z
DESCRIPTION:evento finale del percorso
LAST-MODIFIED;VALUE=DATE-TIME:20231013T141040Z
URL:https://salute.regione.emilia-romagna.it/agenda/regione/2023/community
 -lab-promozione-della-salute-in-eta-evolutiva-partecipazione-e-contrasto-a
 lle-disuguaglianze-nelle-politiche-pubbliche-di-benessere
END:VEVENT
BEGIN:VTIMEZONE
TZID:Europe/Berlin
X-LIC-LOCATION:Europe/Berlin
BEGIN:DAYLIGHT
DTSTART;VALUE=DATE-TIME:20230326T030000
TZNAME:CEST
TZOFFSETFROM:+0100
TZOFFSETTO:+0200
END:DAYLIGHT
END:VTIMEZONE
END:VCALENDAR
