BEGIN:VCALENDAR
VERSION:2.0
PRODID:-//Plone.org//NONSGML plone.app.event//EN
X-WR-TIMEZONE:Europe/Berlin
BEGIN:VEVENT
SUMMARY:Malattie rare: formazione\, informazione ed ascolto in Emilia-Roma
 gna
DTSTART;TZID=Europe/Berlin;VALUE=DATE-TIME:20230311T090000
DTEND;TZID=Europe/Berlin;VALUE=DATE-TIME:20230311T160000
DTSTAMP;VALUE=DATE-TIME:20260425T182507Z
UID:6d129d5fb04748e0a30655c7d864b3c7@salute.regione.emilia-romagna.it
ATTENDEE;CN="Medici ospedalieri, medici e pediatri di famiglia, profession
 isti sanitari, professionisti di organizzazione sanitaria, pazienti e loro
  Associazioni, e a tutti i soggetti impegnati a diverso titolo nel campo d
 elle malattie rare";ROLE=REQ-PARTICIPANT:Medici ospedalieri, medici e pedi
 atri di famiglia, professionisti sanitari, professionisti di organizzazion
 e sanitaria, pazienti e loro Associazioni, e a tutti i soggetti impegnati 
 a diverso titolo nel campo delle malattie rare
CONTACT:Elisa Rozzi\, Matteo Volta\, elisa.rozzi@regione.emilia-romagna.it
 \; matteo.volta@regione.emilia-romagna.it
CREATED;VALUE=DATE-TIME:20230126T083138Z
DESCRIPTION:12a edizione del convegno regionale
LAST-MODIFIED;VALUE=DATE-TIME:20230224T102004Z
URL:https://salute.regione.emilia-romagna.it/agenda/regione/2023/malattie-
 rare-formazione-informazione-ed-ascolto-in-emilia-romagna
END:VEVENT
BEGIN:VTIMEZONE
TZID:Europe/Berlin
X-LIC-LOCATION:Europe/Berlin
BEGIN:STANDARD
DTSTART;VALUE=DATE-TIME:20221030T020000
TZNAME:CET
TZOFFSETFROM:+0200
TZOFFSETTO:+0100
END:STANDARD
END:VTIMEZONE
END:VCALENDAR
