BEGIN:VCALENDAR
VERSION:2.0
PRODID:-//Plone.org//NONSGML plone.app.event//EN
X-WR-TIMEZONE:Europe/Berlin
BEGIN:VEVENT
SUMMARY:Presentazione rapporto Oasi 2022 (evento rinviato al 9 giugno)
DTSTART;TZID=Europe/Berlin;VALUE=DATE-TIME:20230609T133000
DTEND;TZID=Europe/Berlin;VALUE=DATE-TIME:20230609T183000
DTSTAMP;VALUE=DATE-TIME:20260426T045357Z
UID:5cd4329593414fbda818fb90e900e5c8@salute.regione.emilia-romagna.it
CREATED;VALUE=DATE-TIME:20230421T084543Z
LAST-MODIFIED;VALUE=DATE-TIME:20230523T142939Z
URL:https://salute.regione.emilia-romagna.it/agenda/regione/2023/presentaz
 ione-rapporto-oasi-2022
END:VEVENT
BEGIN:VTIMEZONE
TZID:Europe/Berlin
X-LIC-LOCATION:Europe/Berlin
BEGIN:DAYLIGHT
DTSTART;VALUE=DATE-TIME:20230326T030000
TZNAME:CEST
TZOFFSETFROM:+0100
TZOFFSETTO:+0200
END:DAYLIGHT
END:VTIMEZONE
END:VCALENDAR
