BEGIN:VCALENDAR
VERSION:2.0
PRODID:-//Plone.org//NONSGML plone.app.event//EN
X-WR-TIMEZONE:Europe/Berlin
BEGIN:VEVENT
SUMMARY:La Rete Oncologica ed Emato-oncologica regionale
DTSTART;TZID=Europe/Berlin;VALUE=DATE-TIME:20230216T093000
DTEND;TZID=Europe/Berlin;VALUE=DATE-TIME:20230216T163000
DTSTAMP;VALUE=DATE-TIME:20260426T052204Z
UID:6cc740b9297442ec8e077b31daeaede6@salute.regione.emilia-romagna.it
CREATED;VALUE=DATE-TIME:20230127T113950Z
DESCRIPTION:convegno scientifico regionale
LAST-MODIFIED;VALUE=DATE-TIME:20230217T074151Z
URL:https://salute.regione.emilia-romagna.it/agenda/regione/2023/rete-onco
 logica-ed-emato-oncologica-regionale
END:VEVENT
BEGIN:VTIMEZONE
TZID:Europe/Berlin
X-LIC-LOCATION:Europe/Berlin
BEGIN:STANDARD
DTSTART;VALUE=DATE-TIME:20221030T020000
TZNAME:CET
TZOFFSETFROM:+0200
TZOFFSETTO:+0100
END:STANDARD
END:VTIMEZONE
END:VCALENDAR
