BEGIN:VCALENDAR
VERSION:2.0
PRODID:-//Plone.org//NONSGML plone.app.event//EN
X-WR-TIMEZONE:Europe/Berlin
BEGIN:VEVENT
SUMMARY:Sicurezza e salute in ambiente di lavoro: siti e strumenti a suppo
 rto dell'attività di prevenzione
DTSTART;TZID=Europe/Berlin;VALUE=DATE-TIME:20230509T090000
DTEND;TZID=Europe/Berlin;VALUE=DATE-TIME:20230509T133000
DTSTAMP;VALUE=DATE-TIME:20260425T231346Z
UID:6389419e23924225ab313f62f2c8d27e@salute.regione.emilia-romagna.it
ATTENDEE;CN="Operatori dei Servizi di Prevenzione e Sicurezza degli Ambien
 ti di Lavoro, ai Medici";ROLE=REQ-PARTICIPANT:Operatori dei Servizi di Pre
 venzione e Sicurezza degli Ambienti di Lavoro, ai Medici
ATTENDEE;CN="competenti, Responsabili e Addetti dei servizi di prevenzione
  e Protezione Aziendali, datori di lavoro e consulenti";ROLE=REQ-PARTICIPA
 NT:competenti, Responsabili e Addetti dei servizi di prevenzione e Protezi
 one Aziendali, datori di lavoro e consulenti
CATEGORIES:Piano della prevenzione,costruiamo salute
CREATED;VALUE=DATE-TIME:20230428T103831Z
DESCRIPTION:convegno
LAST-MODIFIED;VALUE=DATE-TIME:20230428T105517Z
URL:https://salute.regione.emilia-romagna.it/agenda/regione/2023/sicurezza
 -e-salute-in-ambiente-di-lavoro-siti-e-strumenti-a-supporto-dellattivita-d
 i-prevenzione
END:VEVENT
BEGIN:VTIMEZONE
TZID:Europe/Berlin
X-LIC-LOCATION:Europe/Berlin
BEGIN:DAYLIGHT
DTSTART;VALUE=DATE-TIME:20230326T030000
TZNAME:CEST
TZOFFSETFROM:+0100
TZOFFSETTO:+0200
END:DAYLIGHT
END:VTIMEZONE
END:VCALENDAR
