BEGIN:VCALENDAR
VERSION:2.0
PRODID:-//Plone.org//NONSGML plone.app.event//EN
X-WR-TIMEZONE:Europe/Berlin
BEGIN:VEVENT
SUMMARY:Il contrasto One Health all’antimicrobico resistenza in Emilia-R
 omagna
DTSTART;TZID=Europe/Berlin;VALUE=DATE-TIME:20241202T090000
DTEND;TZID=Europe/Berlin;VALUE=DATE-TIME:20241202T170000
DTSTAMP;VALUE=DATE-TIME:20260426T001841Z
UID:0be3e43fdeb2478295725b3653f838df@salute.regione.emilia-romagna.it
CONTACT:enrico.ricchizzi@regione.emilia-romagna.it\, elena.sasdelli@region
 e.emilia-romagna.it
CREATED;VALUE=DATE-TIME:20241119T074920Z
DESCRIPTION:convegno
LAST-MODIFIED;VALUE=DATE-TIME:20241127T160412Z
URL:https://salute.regione.emilia-romagna.it/agenda/regione/2024/il-contra
 sto-one-health-antimicrobico-resistenza-in-emilia-romagna
END:VEVENT
BEGIN:VTIMEZONE
TZID:Europe/Berlin
X-LIC-LOCATION:Europe/Berlin
BEGIN:STANDARD
DTSTART;VALUE=DATE-TIME:20241027T020000
TZNAME:CET
TZOFFSETFROM:+0200
TZOFFSETTO:+0100
END:STANDARD
END:VTIMEZONE
END:VCALENDAR
