BEGIN:VCALENDAR
VERSION:2.0
PRODID:-//Plone.org//NONSGML plone.app.event//EN
X-WR-TIMEZONE:Europe/Berlin
BEGIN:VEVENT
SUMMARY:Incontro regionale in tema di Palestre che Promuovono  Salute e At
 tività Motoria Adattata
DTSTART;TZID=Europe/Berlin;VALUE=DATE-TIME:20240516T090000
DTEND;TZID=Europe/Berlin;VALUE=DATE-TIME:20240516T130000
DTSTAMP;VALUE=DATE-TIME:20260425T224519Z
UID:c1dfe47c50ee4b529e70e36e85248726@salute.regione.emilia-romagna.it
ATTENDEE;CN="Il corso è rivolto ai professionisti del Servizi di Igiene e
  Sanità Pubblica e dei Servizi di Medicina dello Sport fornendo approfond
 imenti sulle Palestre che Promuovono Salute (PPS) e sui protocolli di atti
 vità motoria adattata.";ROLE=REQ-PARTICIPANT:Il corso è rivolto ai profe
 ssionisti del Servizi di Igiene e Sanità Pubblica e dei Servizi di Medici
 na dello Sport fornendo approfondimenti sulle Palestre che Promuovono Salu
 te (PPS) e sui protocolli di attività motoria adattata.
CATEGORIES:costruiamo salute
CONTACT:Giovanna Mattei\, Settore Prevenzione Collettiva e Sanità Pubblic
 a Regione Emilia-Romagna\, giovanna.mattei@regione.emilia-romagna.it
CREATED;VALUE=DATE-TIME:20240516T081859Z
DESCRIPTION:corso regionale
LAST-MODIFIED;VALUE=DATE-TIME:20240524T094853Z
URL:https://salute.regione.emilia-romagna.it/agenda/regione/2024/incontro-
 regionale-in-tema-di-palestre-che-promuovono-salute-e-attivita-motoria-ada
 ttata
END:VEVENT
BEGIN:VTIMEZONE
TZID:Europe/Berlin
X-LIC-LOCATION:Europe/Berlin
BEGIN:DAYLIGHT
DTSTART;VALUE=DATE-TIME:20240331T030000
TZNAME:CEST
TZOFFSETFROM:+0100
TZOFFSETTO:+0200
END:DAYLIGHT
END:VTIMEZONE
END:VCALENDAR
