BEGIN:VCALENDAR
VERSION:2.0
PRODID:-//Plone.org//NONSGML plone.app.event//EN
X-WR-TIMEZONE:Europe/Berlin
BEGIN:VEVENT
SUMMARY:La tutela dell'operatore sanitario con disturbi psichiatrici e il 
 rischio per terzi
DTSTART;TZID=Europe/Berlin;VALUE=DATE-TIME:20241030T083000
DTEND;TZID=Europe/Berlin;VALUE=DATE-TIME:20241030T180000
DTSTAMP;VALUE=DATE-TIME:20260426T044146Z
UID:bf41dff7a2b34e5a9822d235c61e79ec@salute.regione.emilia-romagna.it
CREATED;VALUE=DATE-TIME:20240924T154108Z
DESCRIPTION:Il ruolo del medico competente a protezione del lavoratore\, d
 ei suoi colleghi e della sicurezza delle cure. Convegno accreditato ECM
LAST-MODIFIED;VALUE=DATE-TIME:20240930T130627Z
URL:https://salute.regione.emilia-romagna.it/agenda/regione/2024/la-tutela
 -delloperatore-sanitario-con-disturbi-psichiatrici-e-il-rischio-per-terzi
END:VEVENT
BEGIN:VTIMEZONE
TZID:Europe/Berlin
X-LIC-LOCATION:Europe/Berlin
BEGIN:STANDARD
DTSTART;VALUE=DATE-TIME:20241027T020000
TZNAME:CET
TZOFFSETFROM:+0200
TZOFFSETTO:+0100
END:STANDARD
END:VTIMEZONE
END:VCALENDAR
