BEGIN:VCALENDAR
VERSION:2.0
PRODID:-//Plone.org//NONSGML plone.app.event//EN
X-WR-TIMEZONE:Europe/Berlin
BEGIN:VEVENT
SUMMARY:XXXVI Convegno Imer - Anomalie congenite  del tratto respiratorio:
  dalla diagnosi al follow up
DTSTART;TZID=Europe/Berlin;VALUE=DATE-TIME:20240524T083000
DTEND;TZID=Europe/Berlin;VALUE=DATE-TIME:20240524T180000
DTSTAMP;VALUE=DATE-TIME:20260425T194810Z
UID:1f3c5811b5c4483b93fa66cb314c2c3c@salute.regione.emilia-romagna.it
CATEGORIES:imer
CREATED;VALUE=DATE-TIME:20240508T092843Z
DESCRIPTION:Convegno
LAST-MODIFIED;VALUE=DATE-TIME:20240508T094114Z
URL:https://salute.regione.emilia-romagna.it/agenda/regione/2024/xxxvi-con
 vegno-imer-anomalie-congenite-del-tratto-respiratorio-dalla-diagnosi-al-fo
 llow-up
END:VEVENT
BEGIN:VTIMEZONE
TZID:Europe/Berlin
X-LIC-LOCATION:Europe/Berlin
BEGIN:DAYLIGHT
DTSTART;VALUE=DATE-TIME:20240331T030000
TZNAME:CEST
TZOFFSETFROM:+0100
TZOFFSETTO:+0200
END:DAYLIGHT
END:VTIMEZONE
END:VCALENDAR
