BEGIN:VCALENDAR
VERSION:2.0
PRODID:-//Plone.org//NONSGML plone.app.event//EN
X-WR-TIMEZONE:Europe/Berlin
BEGIN:VEVENT
SUMMARY:Una partita di calcio per promuovere la salute dei pazienti trapia
 ntati e la donazione organi
DTSTART;TZID=Europe/Berlin;VALUE=DATE-TIME:20250927T110000
DTEND;TZID=Europe/Berlin;VALUE=DATE-TIME:20250927T130000
DTSTAMP;VALUE=DATE-TIME:20260426T063456Z
UID:fbcdc18a7c324dcabaa591b666c51a7d@salute.regione.emilia-romagna.it
CATEGORIES:costruiamo salute
CREATED;VALUE=DATE-TIME:20250902T095517Z
DESCRIPTION:A San Lazzaro di Savena\, l'ultimo sabato di questo mese\, sce
 ndono in campo l'Asd Medici Calcio Bologna e la Nazionale italiana trapian
 tati e dializzati
LAST-MODIFIED;VALUE=DATE-TIME:20250911T103424Z
URL:https://salute.regione.emilia-romagna.it/prp/notizie/una-partita-di-ca
 lcio-per-promuovere-la-salute-dei-pazienti-trapiantati-e-la-donazione-orga
 ni
END:VEVENT
BEGIN:VTIMEZONE
TZID:Europe/Berlin
X-LIC-LOCATION:Europe/Berlin
BEGIN:DAYLIGHT
DTSTART;VALUE=DATE-TIME:20250330T030000
TZNAME:CEST
TZOFFSETFROM:+0100
TZOFFSETTO:+0200
END:DAYLIGHT
END:VTIMEZONE
END:VCALENDAR
