BEGIN:VCALENDAR
VERSION:2.0
PRODID:-//Plone.org//NONSGML plone.app.event//EN
X-WR-TIMEZONE:Europe/Berlin
BEGIN:VEVENT
SUMMARY:Seminario regionale screening dei tumori della cervice uterina\, c
 ome da indicazioni DPCM 4 marzo
DTSTART;TZID=Europe/Berlin;VALUE=DATE-TIME:20200319T084500
DTEND;TZID=Europe/Berlin;VALUE=DATE-TIME:20200319T170000
DTSTAMP;VALUE=DATE-TIME:20260425T195020Z
UID:7c19b8c27ec94928af563da2a09bbe5a@salute.regione.emilia-romagna.it
CATEGORIES:formazione,screening
CONTACT:p.marcucci@ausl.pc.it\, p.marcucci@ausl.pc.it
CREATED;VALUE=DATE-TIME:20200204T134315Z
DESCRIPTION:rimandato a data da destinarsi
LAST-MODIFIED;VALUE=DATE-TIME:20210927T150524Z
URL:https://salute.regione.emilia-romagna.it/screening/notizie-appuntament
 i/2020/seminario-regionale-screening-dei-tumori-della-cervice
END:VEVENT
BEGIN:VTIMEZONE
TZID:Europe/Berlin
X-LIC-LOCATION:Europe/Berlin
BEGIN:STANDARD
DTSTART;VALUE=DATE-TIME:20191027T020000
TZNAME:CET
TZOFFSETFROM:+0200
TZOFFSETTO:+0100
END:STANDARD
END:VTIMEZONE
END:VCALENDAR
