BEGIN:VCALENDAR
VERSION:2.0
PRODID:-//Plone.org//NONSGML plone.app.event//EN
X-WR-TIMEZONE:Europe/Berlin
BEGIN:VEVENT
SUMMARY:Corso per auditor centri screening
DTSTART;TZID=Europe/Berlin;VALUE=DATE-TIME:20210929T140000
DTSTAMP;VALUE=DATE-TIME:20260422T061025Z
UID:60d396b4d34644889d35a984d3882504@salute.regione.emilia-romagna.it
CATEGORIES:screening,screening femminili
CONTACT:Priscilla Sassoli de'Bianchi\, priscilla.sassolidebianchi@regione.
 emilia-romagna.it
CREATED;VALUE=DATE-TIME:20210921T145510Z
DESCRIPTION:Webinar
LAST-MODIFIED;VALUE=DATE-TIME:20220822T092831Z
URL:https://salute.regione.emilia-romagna.it/screening/notizie-appuntament
 i/2021/corso-per-auditor-centri-screening-1
END:VEVENT
BEGIN:VTIMEZONE
TZID:Europe/Berlin
X-LIC-LOCATION:Europe/Berlin
BEGIN:DAYLIGHT
DTSTART;VALUE=DATE-TIME:20210328T030000
TZNAME:CEST
TZOFFSETFROM:+0100
TZOFFSETTO:+0200
END:DAYLIGHT
END:VTIMEZONE
END:VCALENDAR
